BEGIN:VCALENDAR
VERSION:2.0
PRODID: -//Q4 Inc.//EN
METHOD:PUBLISH
BEGIN:VTIMEZONE
TZID:America/New_York
X-LIC-LOCATION:America/New_York
BEGIN:DAYLIGHT
TZOFFSETFROM:-0500
TZOFFSETTO:-0400
TZNAME:EDT
DTSTART:19700308T020000
RRULE:FREQ=YEARLY;BYMONTH=3;BYDAY=2SU
END:DAYLIGHT
BEGIN:STANDARD
TZOFFSETFROM:-0400
TZOFFSETTO:-0500
TZNAME:EST
DTSTART:19701101T020000
RRULE:FREQ=YEARLY;BYMONTH=11;BYDAY=1SU
END:STANDARD
END:VTIMEZONE
BEGIN:VEVENT
ORGANIZER:MAILTO:investor.relations@alcoa.com
DTSTART;TZID="America/New_York":20211108T080000
DTEND;TZID="America/New_York":20211109T070000
LOCATION:
UID:d86b9dae-43c8-4d32-a24a-d03e528c4cc0
DTSTAMP:20260423T042501
SUMMARY:Alcoa Virtual Investor Day – Video Recordings and Presentations
DESCRIPTION: View More Information: https://investors.alcoa.com/events-and-presentations/events-calendar/event-details/2021/Alcoa-Virtual-Investor-Day---pre-event-videos-and-presentations-available/default.aspx
URL;VALUE=URI:https://investors.alcoa.com/events-and-presentations/events-calendar/event-details/2021/Alcoa-Virtual-Investor-Day---pre-event-videos-and-presentations-available/default.aspx
PRIORITY:5
CLASS:PUBLIC
END:VEVENT
END:VCALENDAR
