BEGIN:VCALENDAR
VERSION:2.0
PRODID: -//Q4 Inc.//EN
METHOD:PUBLISH
BEGIN:VTIMEZONE
TZID:America/New_York
X-LIC-LOCATION:America/New_York
BEGIN:DAYLIGHT
TZOFFSETFROM:-0500
TZOFFSETTO:-0400
TZNAME:EDT
DTSTART:19700308T020000
RRULE:FREQ=YEARLY;BYMONTH=3;BYDAY=2SU
END:DAYLIGHT
BEGIN:STANDARD
TZOFFSETFROM:-0400
TZOFFSETTO:-0500
TZNAME:EST
DTSTART:19701101T020000
RRULE:FREQ=YEARLY;BYMONTH=11;BYDAY=1SU
END:STANDARD
END:VTIMEZONE
BEGIN:VEVENT
ORGANIZER:MAILTO:investor.relations@alcoa.com
DTSTART;TZID="America/New_York":20210609T111500
DTEND;TZID="America/New_York":20210609T115000
LOCATION:
UID:90fe49bc-197a-416c-af8e-c82d3015e5fc
DTSTAMP:20260423T014916
SUMMARY:Deutsche Bank’s 12th Annual Global Basic Materials Conference
DESCRIPTION: View More Information: https://investors.alcoa.com/events-and-presentations/events-calendar/event-details/2021/Deutsche-Banks-12th-Annual-Global-Basic-Materials-Conference/default.aspx
URL;VALUE=URI:https://investors.alcoa.com/events-and-presentations/events-calendar/event-details/2021/Deutsche-Banks-12th-Annual-Global-Basic-Materials-Conference/default.aspx
PRIORITY:5
CLASS:PUBLIC
END:VEVENT
END:VCALENDAR
