BEGIN:VCALENDAR
VERSION:2.0
PRODID: -//Q4 Inc.//EN
METHOD:PUBLISH
BEGIN:VTIMEZONE
TZID:America/New_York
X-LIC-LOCATION:America/New_York
BEGIN:DAYLIGHT
TZOFFSETFROM:-0500
TZOFFSETTO:-0400
TZNAME:EDT
DTSTART:19700308T020000
RRULE:FREQ=YEARLY;BYMONTH=3;BYDAY=2SU
END:DAYLIGHT
BEGIN:STANDARD
TZOFFSETFROM:-0400
TZOFFSETTO:-0500
TZNAME:EST
DTSTART:19701101T020000
RRULE:FREQ=YEARLY;BYMONTH=11;BYDAY=1SU
END:STANDARD
END:VTIMEZONE
BEGIN:VEVENT
ORGANIZER:MAILTO:investor.relations@alcoa.com
DTSTART;TZID="America/New_York":20240117T170000
DTEND;TZID="America/New_York":20240117T180000
LOCATION:
UID:01a3e3ff-832f-48cd-b239-cce654064fa1
DTSTAMP:20260423T042251
SUMMARY:Alcoa 4th Quarter and Full Year 2023 Earnings Presentation & Conference Call
DESCRIPTION: View More Information: https://investors.alcoa.com/events-and-presentations/events-calendar/event-details/2024/-Alcoa-4th-Quarter-and-Full-Year-2023-Earnings-Presentation--Conference-Call-2024-uIwEJF1fZR/default.aspx
URL;VALUE=URI:https://investors.alcoa.com/events-and-presentations/events-calendar/event-details/2024/-Alcoa-4th-Quarter-and-Full-Year-2023-Earnings-Presentation--Conference-Call-2024-uIwEJF1fZR/default.aspx
PRIORITY:5
CLASS:PUBLIC
END:VEVENT
END:VCALENDAR
