BEGIN:VCALENDAR
VERSION:2.0
PRODID: -//Q4 Inc.//EN
METHOD:PUBLISH
BEGIN:VTIMEZONE
TZID:America/New_York
X-LIC-LOCATION:America/New_York
BEGIN:DAYLIGHT
TZOFFSETFROM:-0500
TZOFFSETTO:-0400
TZNAME:EDT
DTSTART:19700308T020000
RRULE:FREQ=YEARLY;BYMONTH=3;BYDAY=2SU
END:DAYLIGHT
BEGIN:STANDARD
TZOFFSETFROM:-0400
TZOFFSETTO:-0500
TZNAME:EST
DTSTART:19701101T020000
RRULE:FREQ=YEARLY;BYMONTH=11;BYDAY=1SU
END:STANDARD
END:VTIMEZONE
BEGIN:VEVENT
ORGANIZER:MAILTO:investor.relations@alcoa.com
DTSTART;TZID="America/New_York":20250225T093000
DTEND;TZID="America/New_York":20250225T103000
LOCATION:
UID:58dc9dba-e1a2-4820-86fa-d6a47e8f02a7
DTSTAMP:20260422T231127
SUMMARY:2025 BMO Global Metals, Mining & Critical Minerals Conference
DESCRIPTION: View More Information: https://investors.alcoa.com/events-and-presentations/events-calendar/event-details/2025/2025-BMO-Global-Metals-Mining--Critical-Minerals-Conference-2025-vzi-ksIi9-/default.aspx
URL;VALUE=URI:https://investors.alcoa.com/events-and-presentations/events-calendar/event-details/2025/2025-BMO-Global-Metals-Mining--Critical-Minerals-Conference-2025-vzi-ksIi9-/default.aspx
PRIORITY:5
CLASS:PUBLIC
END:VEVENT
END:VCALENDAR
