BEGIN:VCALENDAR
VERSION:2.0
PRODID: -//Q4 Inc.//EN
METHOD:PUBLISH
BEGIN:VTIMEZONE
TZID:America/New_York
X-LIC-LOCATION:America/New_York
BEGIN:DAYLIGHT
TZOFFSETFROM:-0500
TZOFFSETTO:-0400
TZNAME:EDT
DTSTART:19700308T020000
RRULE:FREQ=YEARLY;BYMONTH=3;BYDAY=2SU
END:DAYLIGHT
BEGIN:STANDARD
TZOFFSETFROM:-0400
TZOFFSETTO:-0500
TZNAME:EST
DTSTART:19701101T020000
RRULE:FREQ=YEARLY;BYMONTH=11;BYDAY=1SU
END:STANDARD
END:VTIMEZONE
BEGIN:VEVENT
ORGANIZER:MAILTO:investor.relations@alcoa.com
DTSTART;TZID="America/New_York":20200514T100000
DTEND;TZID="America/New_York":20200514T100000
LOCATION:
UID:b8d632c2-91ab-4cb9-b231-6fa028e8bb6b
DTSTAMP:20260423T031108
SUMMARY:Bank of America Securities 2020 Global Metals, Mining & Steel Conference
DESCRIPTION: View More Information: https://investors.alcoa.com/events-and-presentations/events-calendar/event-details/2020/Bank-of-America-Securities-2020-Global-Metals-Mining--Steel-Conference/default.aspx
URL;VALUE=URI:https://investors.alcoa.com/events-and-presentations/events-calendar/event-details/2020/Bank-of-America-Securities-2020-Global-Metals-Mining--Steel-Conference/default.aspx
PRIORITY:5
CLASS:PUBLIC
END:VEVENT
END:VCALENDAR
